BEGIN:VCALENDAR
VERSION:2.0
PRODID:-//3nity.com//3nity CMS//EN
BEGIN:VEVENT
SUMMARY:Rush Hour Each and Every Sunday!
UID:2026-07-18-1207837@www.trapaste.com
SEQUENCE:0
STATUS:CONFIRMED
DTSTART:20260517T140000
DTEND:20260517T230000
DTSTAMP:20161222T120000
DESCRIPTION:Miami’s Best SUNDAY Party! First 60 People in FREE!
URL:http://www.trapaste.com
END:VEVENT
END:VCALENDAR
